BEGIN:VCALENDAR
VERSION:2.0
PRODID:-//IP.Board Calendar 4.4.10//EN
METHOD:PUBLISH
CALSCALE:GREGORIAN
X-WR-CALNAME:audiomap Community Kalender
BEGIN:VTIMEZONE
TZID:Europe/London
TZURL:http://tzurl.org/zoneinfo/Europe/London
X-LIC-LOCATION:Europe/London
BEGIN:DAYLIGHT
TZOFFSETFROM:+0000
TZOFFSETTO:+0100
TZNAME:BST
DTSTART:20110327T020000Z
RRULE:FREQ=YEARLY;BYMONTH=3;BYDAY=-1SU
END:DAYLIGHT
BEGIN:STANDARD
TZOFFSETFROM:+0100
TZOFFSETTO:+0000
TZNAME:GMT
DTSTART:20111030T020000Z
RRULE:FREQ=YEARLY;BYMONTH=10;BYDAY=-1SU
END:STANDARD
END:VTIMEZONE
BEGIN:VEVENT
SUMMARY:Infinity Workshop 4 in Ainring
DTSTAMP:20110909T100536Z
SEQUENCE:1
UID:80-1-af2711c41c72882cd7bf8f12d59f9647@www.audiomap.de
ORGANIZER;CN="Chrisi":redaktion@audiomap.de
DESCRIPTION:\n4. Workshop der audiomap Community mit und bei Hardy Bayer
	 in Ainring.\n \nInzwischen schon fast Infinitykult!\n
DTSTART:20110917T020000Z
DTEND:20110919T015959Z
END:VEVENT
END:VCALENDAR
